BEGIN:VCALENDAR
VERSION:2.0
PRODID:-//UNISI - Research - ECPv6.15.20//NONSGML v1.0//EN
CALSCALE:GREGORIAN
METHOD:PUBLISH
X-ORIGINAL-URL:https://research.unisi.it
X-WR-CALDESC:Events for UNISI - Research
REFRESH-INTERVAL;VALUE=DURATION:PT1H
X-Robots-Tag:noindex
X-PUBLISHED-TTL:PT1H
BEGIN:VTIMEZONE
TZID:Europe/Rome
BEGIN:DAYLIGHT
TZOFFSETFROM:+0100
TZOFFSETTO:+0200
TZNAME:CEST
DTSTART:20230326T010000
END:DAYLIGHT
BEGIN:STANDARD
TZOFFSETFROM:+0200
TZOFFSETTO:+0100
TZNAME:CET
DTSTART:20231029T010000
END:STANDARD
BEGIN:DAYLIGHT
TZOFFSETFROM:+0100
TZOFFSETTO:+0200
TZNAME:CEST
DTSTART:20240331T010000
END:DAYLIGHT
BEGIN:STANDARD
TZOFFSETFROM:+0200
TZOFFSETTO:+0100
TZNAME:CET
DTSTART:20241027T010000
END:STANDARD
BEGIN:DAYLIGHT
TZOFFSETFROM:+0100
TZOFFSETTO:+0200
TZNAME:CEST
DTSTART:20250330T010000
END:DAYLIGHT
BEGIN:STANDARD
TZOFFSETFROM:+0200
TZOFFSETTO:+0100
TZNAME:CET
DTSTART:20251026T010000
END:STANDARD
END:VTIMEZONE
BEGIN:VEVENT
DTSTART;TZID=Europe/Rome:20240911T080000
DTEND;TZID=Europe/Rome:20240911T170000
DTSTAMP:20260423T132349
CREATED:20240729T130035Z
LAST-MODIFIED:20240729T130826Z
UID:6539-1726041600-1726074000@research.unisi.it
SUMMARY:INFO DAY HORIZON EUROPE - EU PARTNERSHIPS Bandi 2024 nei partenariati co-funded Cluster 5 e Cluster 6
DESCRIPTION:INFO DAY HORIZON EUROPE – EU PARTNERSHIPS Bandi 2024 nei partenariati co-funded Cluster 5 e Cluster 6 – 11 settembre | evento online \nAPRE\, in accordo con MUR\, organizza l’evento “INFO DAY Horizon Europe – EU Partnerships | Bandi 2024 nei partenariati co-funded Cluster 5 e Cluster 6”.\nL’Info day si svolgerà online nella giornata del giorno 11 settembre ed è possibile registrare la propria partecipazione dal seguente link: https://apre.it/info-day-horizon-europe-eu-partnerships-2024-v5/ \n  \nSessioni previste: \n11 SETTEMBRE | pomeriggio\nINFO DAY Clean Energy Transition Partnership (CETPartnership) & Driving Urban Transitions to a sustainable future (DUT)\, Cluster 5 – Climate\, Energy and Mobility \nI Partenariati co-finanziati Clean Energy Transition Partnership (CETPartnership) e Driving Urban Transitions to a sustainable future (DUT) hanno in programma il lancio dei bandi per il 2024 nel mese di settembre. Il bando CETPartnership – atteso per il 12 settembre – prevede 11 Call Module\, che promuovono la transizione verso l’energia pulita\, mentre la DUT è articolata in tre Transition Pathways che si concentrano sui temi critici per la transizione urbana\, in continuità con il bando 2023. Il bando si articolerà in due fasi (pre-proposal e full-proposal submission) e la prima di queste si aprirà il 2 settembre 2024. \n11 SETTEMBRE | pomeriggio\nINFO DAY Biodiversa+ & Water4All – Water Security for the Planet\, Cluster 6 – Food\, Bioeconomy\, Natural Resources\, Agriculture and Environment \nIl Partenariato co-finanziato Biodiversa+ pubblicherà il bando 2024 il 10 settembre\, con un budget complessivo di circa 40 milioni di euro\, con scadenza per la presentazione della pre-proposal prevista nel mese di novembre di quest’anno. Il Partenariato co-finanziato Water4All – Water Security for the Planet pubblicherà il bando 2024 il prossimo 12 settembre con un budget previsto di circa 36 milioni di euro con scadenza per la presentazione della pre-proposal il 13 novembre 2024. Entrambi i bandi\, strutturati su diversi temi di interesse all’interno del Cluster 6\, verranno introdotti online il giorno 11 settembre da esperti nazionali. \n 
URL:https://research.unisi.it/calendar/info-day-horizon-europe-eu-partnerships-bandi-2024-nei-partenariati-co-funded-cluster-5-e-cluster-6/
CATEGORIES:events calendar
ATTACH;FMTTYPE=image/png:https://research.unisi.it/wp-content/uploads/sites/122/2024/07/Info-day-partnerships-co-funded-2024_header.png
END:VEVENT
END:VCALENDAR