BEGIN:VCALENDAR
VERSION:2.0
PRODID:-//UNISI - Research - ECPv6.15.20//NONSGML v1.0//EN
CALSCALE:GREGORIAN
METHOD:PUBLISH
X-WR-CALNAME:UNISI - Research
X-ORIGINAL-URL:https://research.unisi.it
X-WR-CALDESC:Events for UNISI - Research
REFRESH-INTERVAL;VALUE=DURATION:PT1H
X-Robots-Tag:noindex
X-PUBLISHED-TTL:PT1H
BEGIN:VTIMEZONE
TZID:Europe/Rome
BEGIN:DAYLIGHT
TZOFFSETFROM:+0100
TZOFFSETTO:+0200
TZNAME:CEST
DTSTART:20230326T010000
END:DAYLIGHT
BEGIN:STANDARD
TZOFFSETFROM:+0200
TZOFFSETTO:+0100
TZNAME:CET
DTSTART:20231029T010000
END:STANDARD
BEGIN:DAYLIGHT
TZOFFSETFROM:+0100
TZOFFSETTO:+0200
TZNAME:CEST
DTSTART:20240331T010000
END:DAYLIGHT
BEGIN:STANDARD
TZOFFSETFROM:+0200
TZOFFSETTO:+0100
TZNAME:CET
DTSTART:20241027T010000
END:STANDARD
BEGIN:DAYLIGHT
TZOFFSETFROM:+0100
TZOFFSETTO:+0200
TZNAME:CEST
DTSTART:20250330T010000
END:DAYLIGHT
BEGIN:STANDARD
TZOFFSETFROM:+0200
TZOFFSETTO:+0100
TZNAME:CET
DTSTART:20251026T010000
END:STANDARD
END:VTIMEZONE
BEGIN:VEVENT
DTSTART;VALUE=DATE:20241008
DTEND;VALUE=DATE:20241010
DTSTAMP:20260423T121333
CREATED:20240919T094322Z
LAST-MODIFIED:20240919T123219Z
UID:6609-1728345600-1728518399@research.unisi.it
SUMMARY:EventX Life Sciences – Crossroads in healthcare
DESCRIPTION:In the scenic spaces of the Stazione Leopolda\, on October 8 and 9 2024\, healthcare stakeholders will explore partnering opportunities and discuss technological approaches and solutions developed and under development to address the challenges and opportunities in the current and coming life science scenarios.  \nParticipation in the various sessions is free. Registration on the website: https://eventxls-one2one2024.b2match.io/ \n EventX Life Sciences is promoted by the Fondazione Toscana Life Sciences\, in collaboration with Confindustria Toscana\, the Enterprise Europe Network\, the partners of the Tuscany Health Ecosystem and other actors in the sector\, and is implemented within the activities of spoke 5\, Tuscany Health Ecosystem project – THE\, PNRR\, Mission 4 Component 2 From research to business – Investment 1.5\, funded by the European Union – NextGeneration EU.
URL:https://research.unisi.it/calendar/eventx-life-sciences-crossroads-in-healthcare/
LOCATION:Stazione Leopolda\, Firenze
CATEGORIES:events calendar
ATTACH;FMTTYPE=image/png:https://research.unisi.it/wp-content/uploads/sites/122/2024/09/eventX.png
END:VEVENT
END:VCALENDAR