BEGIN:VCALENDAR
VERSION:2.0
PRODID:-//UNISI - Research - ECPv6.15.20//NONSGML v1.0//EN
CALSCALE:GREGORIAN
METHOD:PUBLISH
X-WR-CALNAME:UNISI - Research
X-ORIGINAL-URL:https://research.unisi.it
X-WR-CALDESC:Events for UNISI - Research
REFRESH-INTERVAL;VALUE=DURATION:PT1H
X-Robots-Tag:noindex
X-PUBLISHED-TTL:PT1H
BEGIN:VTIMEZONE
TZID:Europe/Rome
BEGIN:DAYLIGHT
TZOFFSETFROM:+0100
TZOFFSETTO:+0200
TZNAME:CEST
DTSTART:20240331T010000
END:DAYLIGHT
BEGIN:STANDARD
TZOFFSETFROM:+0200
TZOFFSETTO:+0100
TZNAME:CET
DTSTART:20241027T010000
END:STANDARD
BEGIN:DAYLIGHT
TZOFFSETFROM:+0100
TZOFFSETTO:+0200
TZNAME:CEST
DTSTART:20250330T010000
END:DAYLIGHT
BEGIN:STANDARD
TZOFFSETFROM:+0200
TZOFFSETTO:+0100
TZNAME:CET
DTSTART:20251026T010000
END:STANDARD
BEGIN:DAYLIGHT
TZOFFSETFROM:+0100
TZOFFSETTO:+0200
TZNAME:CEST
DTSTART:20260329T010000
END:DAYLIGHT
BEGIN:STANDARD
TZOFFSETFROM:+0200
TZOFFSETTO:+0100
TZNAME:CET
DTSTART:20261025T010000
END:STANDARD
END:VTIMEZONE
BEGIN:VEVENT
DTSTART;VALUE=DATE:20250715
DTEND;VALUE=DATE:20250716
DTSTAMP:20260423T121333
CREATED:20250515T082441Z
LAST-MODIFIED:20250515T090425Z
UID:7472-1752537600-1752623999@research.unisi.it
SUMMARY:Human Technopole - Netval "Tech Transfer Essentials: Delivering Impact Beyond the Bench"
DESCRIPTION:The process of technology transfer in the Life Sciences aims to advance early scientific inventions and discoveries to the next generation of diagnostics\, therapies\, services\, and enterprises. Academia produces a large amount of highly valuable discoveries and inventions that\, regrettably\, do not always translate into therapies and products beneficial for society. The journey from academic research to patients requires competencies\, know-how\, and access to considerable scientific\, human\, and economic resources. \nThis training course will explore essential aspects of technology transfer\, from intellectual property protection to business development\, licensing\, and startup creation through expert insights\, case studies\, and discussions. \nThis course is organised by the HT Centre for Innovation and Technology Transfer\, in collaboration with Netval\, the Italian Network for Research Valorization\, and IUSS Pavia. \nInfo: https://humantechnopole.it/it/trainings/tech-transfer-essentials/
URL:https://research.unisi.it/calendar/corso-human-technopole-netval-tech-transfer-essentials-delivering-impact-beyond-the-bench/
LOCATION:Milano\, Human Technopole Auditorium
CATEGORIES:events calendar
ATTACH;FMTTYPE=image/png:https://research.unisi.it/wp-content/uploads/sites/122/2025/05/01_HTlogo_pantone_colore.png
END:VEVENT
END:VCALENDAR