BEGIN:VCALENDAR
VERSION:2.0
PRODID:-//UNISI - Research - ECPv6.15.20//NONSGML v1.0//EN
CALSCALE:GREGORIAN
METHOD:PUBLISH
X-WR-CALNAME:UNISI - Research
X-ORIGINAL-URL:https://research.unisi.it
X-WR-CALDESC:Events for UNISI - Research
REFRESH-INTERVAL;VALUE=DURATION:PT1H
X-Robots-Tag:noindex
X-PUBLISHED-TTL:PT1H
BEGIN:VTIMEZONE
TZID:Europe/Rome
BEGIN:DAYLIGHT
TZOFFSETFROM:+0100
TZOFFSETTO:+0200
TZNAME:CEST
DTSTART:20230326T010000
END:DAYLIGHT
BEGIN:STANDARD
TZOFFSETFROM:+0200
TZOFFSETTO:+0100
TZNAME:CET
DTSTART:20231029T010000
END:STANDARD
BEGIN:DAYLIGHT
TZOFFSETFROM:+0100
TZOFFSETTO:+0200
TZNAME:CEST
DTSTART:20240331T010000
END:DAYLIGHT
BEGIN:STANDARD
TZOFFSETFROM:+0200
TZOFFSETTO:+0100
TZNAME:CET
DTSTART:20241027T010000
END:STANDARD
BEGIN:DAYLIGHT
TZOFFSETFROM:+0100
TZOFFSETTO:+0200
TZNAME:CEST
DTSTART:20250330T010000
END:DAYLIGHT
BEGIN:STANDARD
TZOFFSETFROM:+0200
TZOFFSETTO:+0100
TZNAME:CET
DTSTART:20251026T010000
END:STANDARD
END:VTIMEZONE
BEGIN:VEVENT
DTSTART;TZID=Europe/Rome:20240903T090000
DTEND;TZID=Europe/Rome:20240903T170000
DTSTAMP:20260423T153647
CREATED:20240903T081503Z
LAST-MODIFIED:20240904T140201Z
UID:6565-1725354000-1725382800@research.unisi.it
SUMMARY:ERDF Regional Programme for enterprises
DESCRIPTION:The event “ERDF Regional Programme for enterprises” will be held in Florence\, at the Teatro della Compagnia\, Via Cavour 50 red\, on Sept. 3\, 2024\, starting at 9 a.m.. \nThe info-day is organized to promote the calls\, co-financed by the program itself\, that is addressed to Tuscan companies on innovation\, competitiveness and sustainability. \nIt is organized by the sector “Managing Authority of the Regional Program of the European Regional Development Fund (Pr Fesr). \n  \nThe event will also be live streamed here. \n 
URL:https://research.unisi.it/calendar/erdf-regional-programme-for-enterprises/
LOCATION:Firenze\, via Cavour\, 50\, Florence\, Italy
ATTACH;FMTTYPE=image/png:https://research.unisi.it/wp-content/uploads/sites/122/2024/09/FESR_Florence_03092024.png
END:VEVENT
BEGIN:VEVENT
DTSTART;TZID=Europe/Rome:20240911T080000
DTEND;TZID=Europe/Rome:20240911T170000
DTSTAMP:20260423T153647
CREATED:20240729T130035Z
LAST-MODIFIED:20240729T130826Z
UID:6539-1726041600-1726074000@research.unisi.it
SUMMARY:INFO DAY HORIZON EUROPE - EU PARTNERSHIPS Bandi 2024 nei partenariati co-funded Cluster 5 e Cluster 6
DESCRIPTION:INFO DAY HORIZON EUROPE – EU PARTNERSHIPS Bandi 2024 nei partenariati co-funded Cluster 5 e Cluster 6 – 11 settembre | evento online \nAPRE\, in accordo con MUR\, organizza l’evento “INFO DAY Horizon Europe – EU Partnerships | Bandi 2024 nei partenariati co-funded Cluster 5 e Cluster 6”.\nL’Info day si svolgerà online nella giornata del giorno 11 settembre ed è possibile registrare la propria partecipazione dal seguente link: https://apre.it/info-day-horizon-europe-eu-partnerships-2024-v5/ \n  \nSessioni previste: \n11 SETTEMBRE | pomeriggio\nINFO DAY Clean Energy Transition Partnership (CETPartnership) & Driving Urban Transitions to a sustainable future (DUT)\, Cluster 5 – Climate\, Energy and Mobility \nI Partenariati co-finanziati Clean Energy Transition Partnership (CETPartnership) e Driving Urban Transitions to a sustainable future (DUT) hanno in programma il lancio dei bandi per il 2024 nel mese di settembre. Il bando CETPartnership – atteso per il 12 settembre – prevede 11 Call Module\, che promuovono la transizione verso l’energia pulita\, mentre la DUT è articolata in tre Transition Pathways che si concentrano sui temi critici per la transizione urbana\, in continuità con il bando 2023. Il bando si articolerà in due fasi (pre-proposal e full-proposal submission) e la prima di queste si aprirà il 2 settembre 2024. \n11 SETTEMBRE | pomeriggio\nINFO DAY Biodiversa+ & Water4All – Water Security for the Planet\, Cluster 6 – Food\, Bioeconomy\, Natural Resources\, Agriculture and Environment \nIl Partenariato co-finanziato Biodiversa+ pubblicherà il bando 2024 il 10 settembre\, con un budget complessivo di circa 40 milioni di euro\, con scadenza per la presentazione della pre-proposal prevista nel mese di novembre di quest’anno. Il Partenariato co-finanziato Water4All – Water Security for the Planet pubblicherà il bando 2024 il prossimo 12 settembre con un budget previsto di circa 36 milioni di euro con scadenza per la presentazione della pre-proposal il 13 novembre 2024. Entrambi i bandi\, strutturati su diversi temi di interesse all’interno del Cluster 6\, verranno introdotti online il giorno 11 settembre da esperti nazionali. \n 
URL:https://research.unisi.it/calendar/info-day-horizon-europe-eu-partnerships-bandi-2024-nei-partenariati-co-funded-cluster-5-e-cluster-6/
CATEGORIES:events calendar
ATTACH;FMTTYPE=image/png:https://research.unisi.it/wp-content/uploads/sites/122/2024/07/Info-day-partnerships-co-funded-2024_header.png
END:VEVENT
BEGIN:VEVENT
DTSTART;VALUE=DATE:20240916
DTEND;VALUE=DATE:20240919
DTSTAMP:20260423T153647
CREATED:20240731T083538Z
LAST-MODIFIED:20240731T083538Z
UID:6542-1726444800-1726703999@research.unisi.it
SUMMARY:XVII Annual Conference Netval - Agri-tech & Agri-"culture": the new frontiers of TT and new enterprise
DESCRIPTION:Registration is now open for the XVII Annual Netval Conference\, Agri-tech & Agri-“culture”: the new frontiers of TT and new business. \nThe 2024 edition will take place from 16 to 18 September in Naples\, at the Partenope Congress Center\, in collaboration with the University of Naples Federico II. \nFrom the discussion of cases of innovation transfer\, through the comparison with investors and promoters of proof of concept\, to arrive at the presentation of AgriFoodTech start-ups and spin-offs born from research\, the Conference will be an opportunity to investigate and deepen the role of knowledge transfer from research institutes in the AgriFoodTech field.\n \n  \n 
URL:https://research.unisi.it/calendar/xvii-annual-conference-netval-agri-tech-agri-culture-the-new-frontiers-of-tt-and-new-enterprise/
LOCATION:Partenope Congress Center\, Napoli
CATEGORIES:events calendar
ATTACH;FMTTYPE=image/jpeg:https://research.unisi.it/wp-content/uploads/sites/122/2024/07/netval.jpg
END:VEVENT
BEGIN:VEVENT
DTSTART;VALUE=DATE:20240923
DTEND;VALUE=DATE:20240926
DTSTAMP:20260423T153647
CREATED:20240919T122330Z
LAST-MODIFIED:20240919T122800Z
UID:6628-1727049600-1727308799@research.unisi.it
SUMMARY:PNRR LIVE - La Borsa della Ricerca
DESCRIPTION:From 23th to 25th September the three-day PNRR Live of the “Borsa della Ricerca” will be broadcast live.  \nEvery day there will be 3 Live\, from 9 to 12: 23 September: NODES – Spoke 6\, MUSA\, Terabit. 24 September: Agritech\, GRINS\, KM3NET4RR. 25 September: RNA&Genetherapy\, THE\, MOST. \nHere the video invitation of the three days: https://www.youtube.com/watch?v=9UOxUwxXlvo\n \nTo partecipate you can request the access link to the events of interest\, or to the entire event\, by writing to info@borsadellaricerca.it. \n  \nPNRR Live are events held in collaboration with institutions funded by the National Recovery and Resilience Plan that will take part in the PNRR EXPO Forum next 21-23 October in Catania\, Italy.\nThese are live-streamed presentation workshops lasting an hour\, with additional time allowed for comments and questions from participants connecting from all over Italy.\nThe PNRR Live series is a concrete way of giving continuity to relationships and forming new ones by learning about the projects and objectives of member institutions\, the state of progress\, ways of collaborating and open opportunities. \n 
URL:https://research.unisi.it/calendar/pnrr-live-la-borsa-della-ricerca/
LOCATION:Online
CATEGORIES:events calendar
ATTACH;FMTTYPE=image/png:https://research.unisi.it/wp-content/uploads/sites/122/2024/09/PNRR-LIVE_3days.png
END:VEVENT
BEGIN:VEVENT
DTSTART;TZID=Europe/Rome:20240927T080000
DTEND;TZID=Europe/Rome:20240927T200000
DTSTAMP:20260423T153647
CREATED:20240920T063002Z
LAST-MODIFIED:20240924T124927Z
UID:6642-1727424000-1727467200@research.unisi.it
SUMMARY:Bright-Night 2024
DESCRIPTION:BRIGHT-NIGHT\, the European Night of Researchers in Tuscany\, returns on Friday 27 September. \nAs always\, the protagonists of the Night will be researchers who will bring experiments and demonstrations to the streets\, with the aim of bringing citizens closer to science and the world of research.  \nThe promoters of the event are the Tuscan universities (Universities of Florence\, Pisa\, Siena\, Stranieri di Siena\, Scuola Superiore Sant’Anna di Pisa\, Scuola Normale Superiore and Scuola IMT Alti Studi Lucca)\, together with a wide network of research bodies – including the Pisa Area National Research Council (CNR)\, the National Institute of Nuclear Physics (INFN)\, the National Institute of Geophysics and Volcanology (INGV)\, the European Gravitational Observatory (EGO)\, INAF Astrophysical Observatory of Arcetri – with the support of the Tuscany Region\, as part of the Giovanisì project.  \nThe BRIGHT-NIGHT project is an associated event of the European Commission’s HORIZON-MSCA-2023-CITIZENS-01 programme.
URL:https://research.unisi.it/calendar/bright-night/
LOCATION:Tuscany\, Siena\, 53100\, Italy
CATEGORIES:events calendar
ATTACH;FMTTYPE=image/jpeg:https://research.unisi.it/wp-content/uploads/sites/122/2024/07/Bright.jpg
END:VEVENT
END:VCALENDAR