BEGIN:VCALENDAR
VERSION:2.0
PRODID:-//UNISI - Research - ECPv6.15.20//NONSGML v1.0//EN
CALSCALE:GREGORIAN
METHOD:PUBLISH
X-ORIGINAL-URL:https://research.unisi.it
X-WR-CALDESC:Events for UNISI - Research
REFRESH-INTERVAL;VALUE=DURATION:PT1H
X-Robots-Tag:noindex
X-PUBLISHED-TTL:PT1H
BEGIN:VTIMEZONE
TZID:Europe/Rome
BEGIN:DAYLIGHT
TZOFFSETFROM:+0100
TZOFFSETTO:+0200
TZNAME:CEST
DTSTART:20250330T010000
END:DAYLIGHT
BEGIN:STANDARD
TZOFFSETFROM:+0200
TZOFFSETTO:+0100
TZNAME:CET
DTSTART:20251026T010000
END:STANDARD
BEGIN:DAYLIGHT
TZOFFSETFROM:+0100
TZOFFSETTO:+0200
TZNAME:CEST
DTSTART:20260329T010000
END:DAYLIGHT
BEGIN:STANDARD
TZOFFSETFROM:+0200
TZOFFSETTO:+0100
TZNAME:CET
DTSTART:20261025T010000
END:STANDARD
BEGIN:DAYLIGHT
TZOFFSETFROM:+0100
TZOFFSETTO:+0200
TZNAME:CEST
DTSTART:20270328T010000
END:DAYLIGHT
BEGIN:STANDARD
TZOFFSETFROM:+0200
TZOFFSETTO:+0100
TZNAME:CET
DTSTART:20271031T010000
END:STANDARD
END:VTIMEZONE
BEGIN:VEVENT
DTSTART;TZID=Europe/Rome:20260114T100000
DTEND;TZID=Europe/Rome:20260114T180000
DTSTAMP:20260423T140713
CREATED:20251204T112010Z
LAST-MODIFIED:20251204T112215Z
UID:9647-1768384800-1768413600@research.unisi.it
SUMMARY:GREENET Brokerage Event 2026: Horizon Europe - Cluster 5 calls 2026
DESCRIPTION:GREENET – the network of Horizon Europe CL5 National Contact Points – is organizing a networking and brokerage event\, jointly supported by the Enterprise Europe Network. The event will be held entirely online on January 14\, 2026\, from 10:00 to 18:00. \nThe main objective is to gather relevant stakeholders to support the development of consortia and project ideas for the 2026 calls for proposals from the Work Programme of “Cluster 5: Climate\, Energy and Mobility”. \nParticipants looking for partners will have the opportunity to present their organization and project ideas in two different ways: \n\nBrief Oral Presentation: Maximum 3 minutes per presentation.\nBilateral Meetings (B2B): Individual meetings\, maximum 20 minutes each.\n\nThe deadline to register for the event is December 19\, 2025. Furthermore\, the deadline for submitting bilateral meeting requests is set for January 14\, 2026 \nFor further information and to register for the event\, please visit the official page: https://www.b2match.com/e/greenet-brokerage-event-2026 \n  \nThis event is organized in conjunction with the European Commission Cluster 5 Info Day\, which will take place on the following day\, January 15th.
URL:https://research.unisi.it/calendar/greenet-brokerage-event-2026-horizon-europe-cluster-5-calls-2026/
CATEGORIES:events calendar
ATTACH;FMTTYPE=image/jpeg:https://research.unisi.it/wp-content/uploads/sites/122/2025/12/climate-2026-e1763373110723.jpg
END:VEVENT
BEGIN:VEVENT
DTSTART;TZID=Europe/Rome:20260115T090000
DTEND;TZID=Europe/Rome:20260115T170000
DTSTAMP:20260423T140713
CREATED:20251204T113413Z
LAST-MODIFIED:20251204T113435Z
UID:9653-1768467600-1768496400@research.unisi.it
SUMMARY:Horizon Europe info day – Cluster 5: Climate\, Energy and Mobility
DESCRIPTION:Following the networking and brokerage event\, the European Commission will host the official Horizon Europe Info Day for Cluster 5: Climate\, Energy and Mobility on January 15\, 2026\, from 09:00 to 17:00. \nThis online event\, streamed via the European Commission’s web platform\, is a crucial opportunity for the research community to explore the 2026 topics of the forthcoming work programme. \nAttendees can expect to receive essential insights into the policy context\, detailed guidance for preparing high-quality proposals\, and specific tips for enhancing the role of Social Sciences and Humanities (SSH) in relevant topics. The Info Day will also feature interactive parallel sessions by thematic area to address specific questions from participants. \nThe deadline to register for the event is January 14\, 2026. \nFor further information and to register\, please visit the official page: https://research-innovation-community.ec.europa.eu/events/Bfe77xRS2qXkjg2EPgcim/overview
URL:https://research.unisi.it/calendar/horizon-europe-info-day-cluster-5-climate-energy-and-mobility/
CATEGORIES:events calendar
ATTACH;FMTTYPE=image/png:https://research.unisi.it/wp-content/uploads/sites/122/2025/12/HE_Cluster-5_InfoDay_2026_web_v1_600x400-e1764848044673.png
END:VEVENT
BEGIN:VEVENT
DTSTART;VALUE=DATE:20260120
DTEND;VALUE=DATE:20260122
DTSTAMP:20260423T140713
CREATED:20251204T115016Z
LAST-MODIFIED:20251212T110521Z
UID:9658-1768867200-1769039999@research.unisi.it
SUMMARY:Horizon Europe info days - EU Missions
DESCRIPTION:The European Commission will host the official Horizon Europe Info Days on EU Missions on January 20 and 21\, 2026\, starting at 09:00. This online event aims to inform potential applicants about the new 2026 topics included in the EU Missions Work Programme 2026/2027. This is a key opportunity to learn more about funding opportunities for projects helping to reach the EU Missions goals in the areas of health\, climate\, and the environment. \nThe Info Days will detail the new mission-specific calls and topics designed to support the full implementation of missions according to their implementation plans for the five core areas: \n\nAdaptation to Climate Change Mission\nCancer Mission\n100 Climate-Neutral and Smart cities by 2030 Mission\nRestore our Ocean and Waters by 2030 Mission\nA Soil Deal for Europe Mission.\n\nParticipants can engage and ask questions via Slido during the sessions. \nFor further information\, please visit the official page: https://research-innovation-community.ec.europa.eu/events/4jD1h3248qxEnEKzoHXVG9/overview \nFollowing the Info Days\, the NCP4Missions network (the international network of National Contact Points for the five EU Missions) will organize a dedicated Brokerage Event on January 28-29\, 2026
URL:https://research.unisi.it/calendar/horizon-europe-info-days-eu-missions/
CATEGORIES:events calendar
ATTACH;FMTTYPE=image/jpeg:https://research.unisi.it/wp-content/uploads/sites/122/2025/12/eu-missions-info-days.jpg
END:VEVENT
BEGIN:VEVENT
DTSTART;VALUE=DATE:20260121
DTEND;VALUE=DATE:20260122
DTSTAMP:20260423T140713
CREATED:20251211T115000Z
LAST-MODIFIED:20251211T115240Z
UID:9699-1768953600-1769039999@research.unisi.it
SUMMARY:CARE4BIO 2026: Brokerage Event on Horizon Europe Cluster 6
DESCRIPTION:The CARE4BIO Network organizes the CARE4BIO 2026 Brokerage Event\, which will be held in Brussels on January 21\, 2026\, at the Albert Borschette Congress Center. \nThis event is entirely dedicated to the Horizon Europe Cluster 6 calls (“Food\, Bioeconomy\, Natural Resources\, Agriculture and Environment”). \nThe goal is to bring together all relevant stakeholders interested in submitting proposals\, allowing for bilateral matchmaking meetings aimed at sharing new project ideas and building consortia for the 2026 calls. \nThis will be the perfect opportunity for Universities\, Research Centers\, and Companies to discuss topics such as Biodiversity\, Sustainable Food Systems\, and Circular Economy. \nRegistration is open\, but spots are limited and will close by January 11\, 2026\, at the latest. \nFor further information and to register for the event: https://www.b2match.com/e/care4bio-2026
URL:https://research.unisi.it/calendar/care4bio-2026-brokerage-event-on-horizon-europe-cluster-6/
LOCATION:Albert Borschette Congress Center\, Bruxelles\, Rue Froissart 36\, Bruxelles
CATEGORIES:events calendar
ATTACH;FMTTYPE=image/png:https://research.unisi.it/wp-content/uploads/sites/122/2025/12/Banner_Care4Bio-e1765453794950.png
END:VEVENT
END:VCALENDAR